BEGIN:VCALENDAR
VERSION:2.0
PRODID:-//Lewknor Parish Council//Meeting Calendar//EN
CALSCALE:GREGORIAN
METHOD:PUBLISH
BEGIN:VEVENT
UID:70748-20260608@lewknorparishcouncil.gov.uk
DTSTAMP:20260421T083956Z
DTSTART;VALUE=DATE:20260608
DTEND;VALUE=DATE:20260609
SUMMARY:Parish Council Meeting &#8211\\; 8th June 2026
DESCRIPTION:Full Council Meeting\nView details: https://lewknorparishcouncil.gov.uk/meetings/parish-council-meeting-8th-june-2026/
URL:https://lewknorparishcouncil.gov.uk/meetings/parish-council-meeting-8th-june-2026/
END:VEVENT
END:VCALENDAR
